BEGIN:VCALENDAR
VERSION:2.0
PRODID:-//https://berufungspastoral.dillinger-franziskanerinnen.de///NONSGML kigkonsult.se iCalcreator 2.10.15//
METHOD:PUBLISH
BEGIN:VEVENT
UID:20260420T152607CEST-5332D6Edri@https://berufungspastoral.dillinger-fran
 ziskanerinnen.de/
DTSTAMP:20260420T132607Z
DESCRIPTION:Wir beginnen um 20:00 Uhr im Freien mit einem Anspiel und einer
  Lichtfeier. An unterschiedlichen Stationen auf dem Klostergelände werden 
 wir einzelne Bitten des Vaterunsers vertiefen. In der Kirche bleibt dann Z
 eit für das persönliche Gebet mit Texten und Liedern. Das Team der Dekanat
 srunde hat sich viele Gedanken gemacht\, abwechslungsreiche Elemente\, Tex
 te und Lieder gesucht.\n\n&nbsp\;\nTrotz CORONA trauen wir uns wieder und 
 freuen uns auf dein Kommen!\nFür unsere Planungen hilft uns deine Anmeldun
 g bei der Jugendstelle Donauwörth unter:\njugenststelle-donauwoerth@bistum
 -augsburg.de https://berufungspastoral.dillinger-franziskanerinnen.de/ange
 bote/kalender/event/188-jugendvigil
DTSTART:20200925T180000Z
DTEND:20200925T215900Z
LOCATION:Franziskaushaus des Klosters Maria Medingen (Klosterstraße 4\, 894
 26\, Mödingen\, Kloster Maria Medingen\, Bayern)
SUMMARY:Jugendvigil
URL:https://berufungspastoral.dillinger-franziskanerinnen.de/angebote/kalen
 der/event/188-jugendvigil
END:VEVENT
END:VCALENDAR
